BEGIN:VCALENDAR
VERSION:2.0
PRODID:-//Old Nottinghamians&#039; Society - ECPv6.15.20//NONSGML v1.0//EN
CALSCALE:GREGORIAN
METHOD:PUBLISH
X-WR-CALNAME:Old Nottinghamians&#039; Society
X-ORIGINAL-URL:https://old-nottinghamians-society.org
X-WR-CALDESC:Events for Old Nottinghamians&#039; Society
REFRESH-INTERVAL;VALUE=DURATION:PT1H
X-Robots-Tag:noindex
X-PUBLISHED-TTL:PT1H
BEGIN:VTIMEZONE
TZID:UTC
BEGIN:STANDARD
TZOFFSETFROM:+0000
TZOFFSETTO:+0000
TZNAME:UTC
DTSTART:20250101T000000
END:STANDARD
END:VTIMEZONE
BEGIN:VEVENT
DTSTART;TZID=UTC:20260514T120000
DTEND;TZID=UTC:20260514T153000
DTSTAMP:20260423T082643
CREATED:20260410T221014Z
LAST-MODIFIED:20260411T111612Z
UID:11186-1778760000-1778772600@old-nottinghamians-society.org
SUMMARY:147th Society Lunch
DESCRIPTION:Nigel Dunn (1949-60) has arranged the 147th Society Lunch for Thursday 14th May 2026 at Beeston Fields Golf Club. All Old Nottinghamians are welcome to join President Dave Nettleton (1974-84) and fellow ONs. All the details are here.
URL:https://old-nottinghamians-society.org/event/147th-society-lunch/
LOCATION:Beeston Fields Golf Club\, Old Dr\, Wollaton Rd\, Beeston\, Nottingham\, NG9 3DA\, United Kingdom
CATEGORIES:Beeston Fields
ATTACH;FMTTYPE=image/jpeg:https://old-nottinghamians-society.org/wp-content/uploads/2026/01/BF26-Jan-Mark-Dillon-Matthew-Lymn-Rose-Pete-Clarson-rotated.jpeg
END:VEVENT
END:VCALENDAR